BEGIN:VCALENDAR
VERSION:2.0
PRODID:-//ChamberMaster//Event Calendar 2.0//EN
METHOD:PUBLISH
X-PUBLISHED-TTL:P3D
REFRESH-INTERVAL:P3D
CALSCALE:GREGORIAN
BEGIN:VEVENT
DTSTART:20170428T170000Z
DTEND:20170428T180000Z
X-MICROSOFT-CDO-ALLDAYEVENT:FALSE
SUMMARY:Membership Lunch
DESCRIPTION:Jason Penka (with Tech Junkies) will be present on Cyber Security.
X-ALT-DESC;FMTTYPE=text/html:Jason Penka&nbsp\;(with Tech Junkies) will be present on Cyber Security.
LOCATION:Smoky Hill Country Club Sponsored by Equity Bank
UID:e.1271.5787
SEQUENCE:3
DTSTAMP:20260425T140720Z
URL:https://members.hayschamber.com/events/details/membership-lunch-04-28-2017-5787
END:VEVENT

END:VCALENDAR
