BEGIN:VCALENDAR
VERSION:2.0
PRODID:-//ChamberMaster//Event Calendar 2.0//EN
METHOD:PUBLISH
X-PUBLISHED-TTL:P3D
REFRESH-INTERVAL:P3D
CALSCALE:GREGORIAN
BEGIN:VEVENT
DTSTART:20200626T170000Z
DTEND:20200626T180000Z
X-MICROSOFT-CDO-ALLDAYEVENT:FALSE
SUMMARY:Membership Lunch
DESCRIPTION:Monthly Chamber membership lunch\, open to all current Chamber members with RSVP.\n\nPresenter: Toby Dougherty\, City of Hays - City Manager\n\nSponsor: EnerSys
X-ALT-DESC;FMTTYPE=text/html:<span style="font-size:12px\;"><span style="font-family:tahoma\;"><span style="font-family:arial\;"><span style="color:black\;">Monthly Chamber membership lunch\, open to all current Chamber members with RSVP.<br />\nPresenter: Toby Dougherty\, City of Hays</span> - City Manager<br />\n<span style="color:black\;">Sponsor: EnerSys</span></span></span></span><br />\n&nbsp\;
LOCATION:Rose Garden Banquet Hall 2350 E. 8th St. Hays\, KS 67601
UID:e.1271.10379
SEQUENCE:3
DTSTAMP:20260419T224246Z
URL:https://members.hayschamber.com/events/details/membership-lunch-06-26-2020-10379
END:VEVENT

END:VCALENDAR
