BEGIN:VCALENDAR
VERSION:2.0
PRODID:-//ChamberMaster//Event Calendar 2.0//EN
METHOD:PUBLISH
X-PUBLISHED-TTL:P3D
REFRESH-INTERVAL:P3D
CALSCALE:GREGORIAN
BEGIN:VEVENT
DTSTART:20190726T170000Z
DTEND:20190726T180000Z
X-MICROSOFT-CDO-ALLDAYEVENT:FALSE
SUMMARY:Membership Lunch
DESCRIPTION:Monthly Chamber membership lunch\, open to all current Chamber members with RSVP.\n\nPresenter: Karen McCullough and Lisa Karlin\, FHSU Career Services\n\nSponsor: Sunflower Bank
X-ALT-DESC;FMTTYPE=text/html:<span style="font-size:12px\;"><span style="font-family:tahoma\;"><span style="font-family:arial\;"><span style="color:black\;">Monthly Chamber membership lunch\, open to all current Chamber members with RSVP.<br />\nPresenter: Karen McCullough and Lisa Karlin\, FHSU Career Services</span><br />\n<span style="color:black\;">Sponsor: Sunflower Bank</span></span></span></span><br />\n&nbsp\;
LOCATION:Smoky Hill Country Club 3303 N. Hall
UID:e.1271.9960
SEQUENCE:3
DTSTAMP:20260422T060028Z
URL:https://members.hayschamber.com/events/details/membership-lunch-07-26-2019-9960
END:VEVENT

END:VCALENDAR
