BEGIN:VCALENDAR
VERSION:2.0
PRODID:-//ChamberMaster//Event Calendar 2.0//EN
METHOD:PUBLISH
X-PUBLISHED-TTL:P3D
REFRESH-INTERVAL:P3D
CALSCALE:GREGORIAN
BEGIN:VEVENT
DTSTART:20170825T170000Z
DTEND:20170825T180000Z
X-MICROSOFT-CDO-ALLDAYEVENT:FALSE
SUMMARY:Membership Lunch
DESCRIPTION:
X-ALT-DESC;FMTTYPE=text/html:
LOCATION:Whiskey Creek
UID:e.1271.5791
SEQUENCE:3
DTSTAMP:20260425T035719Z
URL:https://members.hayschamber.com/events/details/membership-lunch-08-25-2017-5791
END:VEVENT

END:VCALENDAR
