BEGIN:VCALENDAR
VERSION:2.0
PRODID:-//ChamberMaster//Event Calendar 2.0//EN
METHOD:PUBLISH
X-PUBLISHED-TTL:P3D
REFRESH-INTERVAL:P3D
CALSCALE:GREGORIAN
BEGIN:VEVENT
DTSTART:20190927T170000Z
DTEND:20190927T180000Z
X-MICROSOFT-CDO-ALLDAYEVENT:FALSE
SUMMARY:Membership Lunch
DESCRIPTION:Monthly Chamber membership lunch\, open to all current Chamber members with RSVP.\n\nPresenter: Doug Williams\, Grow Hays\n\nSponsor: Nex-Tech Wireless
X-ALT-DESC;FMTTYPE=text/html:<span style="font-size:12px\;"><span style="font-family:tahoma\;"><span style="font-family:arial\;"><span style="color:black\;">Monthly Chamber membership lunch\, open to all current Chamber members with RSVP.<br />\nPresenter: Doug Williams\, Grow Hays</span><br />\n<span style="color:black\;">Sponsor: Nex-Tech Wireless</span></span></span></span><br />\n&nbsp\;
LOCATION:Smoky Hill Country Club 3303 N. Hall
UID:e.1271.9962
SEQUENCE:3
DTSTAMP:20260422T020657Z
URL:https://members.hayschamber.com/events/details/membership-lunch-09-27-2019-9962
END:VEVENT

END:VCALENDAR
