BEGIN:VCALENDAR
VERSION:2.0
PRODID:-//ChamberMaster//Event Calendar 2.0//EN
METHOD:PUBLISH
X-PUBLISHED-TTL:P3D
REFRESH-INTERVAL:P3D
CALSCALE:GREGORIAN
BEGIN:VEVENT
DTSTART:20191025T170000Z
DTEND:20191025T180000Z
X-MICROSOFT-CDO-ALLDAYEVENT:FALSE
SUMMARY:Membership Lunch
DESCRIPTION:Monthly Chamber membership lunch\, open to all current Chamber members with RSVP.\n\nPresenter: Rick Feltenberger\, Kansas Small Business Development Center\n\nSponsor: Nex-Tech
X-ALT-DESC;FMTTYPE=text/html:<span style="font-size:12px\;"><span style="font-family:tahoma\;"><span style="font-family:arial\;"><span style="color:black\;">Monthly Chamber membership lunch\, open to all current Chamber members with RSVP.<br />\nPresenter: </span><span style="color:black\;">Rick Feltenberger\, Kansas Small Business Development Center<br />\nSponsor: Nex-Tech</span></span></span></span><br />\n&nbsp\;
LOCATION:Smoky Hill Country Club 3303 N. Hall
UID:e.1271.9963
SEQUENCE:3
DTSTAMP:20260422T004416Z
URL:https://members.hayschamber.com/events/details/membership-lunch-10-25-2019-9963
END:VEVENT

END:VCALENDAR
