BEGIN:VCALENDAR
VERSION:2.0
PRODID:-//ChamberMaster//Event Calendar 2.0//EN
METHOD:PUBLISH
X-PUBLISHED-TTL:P3D
REFRESH-INTERVAL:P3D
CALSCALE:GREGORIAN
BEGIN:VEVENT
DTSTART:20261023T170000Z
DTEND:20261023T180000Z
X-MICROSOFT-CDO-ALLDAYEVENT:FALSE
SUMMARY:Membership Lunch
DESCRIPTION:Monthly Chamber Membership Lunch\n\nSponsor: Nex-Tech\n\nSpeaker: HaysMed Breast Care Center / The Center for Women's Health Specialist\n\nProgram: What If One Conversation Could Save a Life?\n\nBreast cancer and women's health touch every family and every community. In honor of National Breast Cancer Awareness Month\, the HaysMed Breast Care Center and The Center for Women's Health are sharing vital information and services available right here in our own backyard. We'll discuss trending women's health topics and current medical advancements\, such as new screening guidelines\, genetic testing\, and preventive care strategies. Our expert team serves Hays and western Kansas with advanced screenings\, diagnostics\, and personalized care plans designed to keep women healthy and strong. Don't miss the chance to learn from a HaysMed specialist and engage in an interactive Q&A designed for our community.
X-ALT-DESC;FMTTYPE=text/html:<span style="font-family:arial\;"><span style="font-size:12px\;"><span style="background-image: initial\; background-position: initial\; background-size: initial\; background-repeat: initial\; background-attachment: initial\; background-origin: initial\; background-clip: initial\;">Monthly Chamber Membership Lunch</span><br />\n<span style="background-image: initial\; background-position: initial\; background-size: initial\; background-repeat: initial\; background-attachment: initial\; background-origin: initial\; background-clip: initial\;"><u><strong>Sponsor</strong></u>: Nex-Tech<br />\n<span style="background-image: initial\; background-position: initial\; background-size: initial\; background-repeat: initial\; background-attachment: initial\; background-origin: initial\; background-clip: initial\;"><u><strong>Speaker</strong></u>: HaysMed Breast Care Center / The Center for Women&#39\;s Health Specialist</span></span><br />\n<u><strong>Program</strong></u>:&nbsp\;</span></span><span style="color: rgb(0\, 0\, 0)\; font-family: arial\; font-size: 12px\;">What If One Conversation Could Save a Life?</span><br />\n<span style="font-family:arial\;"><span style="font-size:11px\;"><span style="font-size:12px\;"><span style="color:black\;">Breast cancer and women&rsquo\;s health touch every family and every community. In honor of National Breast Cancer Awareness Month\, the HaysMed Breast Care Center and The Center for Women&rsquo\;s Health are sharing vital information and services available right here in our own backyard. We&rsquo\;ll discuss trending women&rsquo\;s health topics and current medical advancements\, such as new screening guidelines\, genetic testing\, and preventive care strategies. Our expert team serves Hays and western Kansas with advanced screenings\, diagnostics\, and personalized care plans designed to keep women healthy and strong. Don&rsquo\;t miss the chance to learn from a HaysMed specialist and engage in an interactive Q&amp\;A designed for our community.</span></span></span></span><br />\n&nbsp\;
LOCATION:Lb. Event Center & Catering 117 E. 11th St Hays\, KS\, 67601
UID:e.1271.12664
SEQUENCE:3
DTSTAMP:20260424T053251Z
URL:https://members.hayschamber.com/events/details/membership-lunch-12664
END:VEVENT

END:VCALENDAR
