BEGIN:VCALENDAR
VERSION:2.0
PRODID:-//ChamberMaster//Event Calendar 2.0//EN
METHOD:PUBLISH
X-PUBLISHED-TTL:P3D
REFRESH-INTERVAL:P3D
CALSCALE:GREGORIAN
BEGIN:VEVENT
DTSTART:20260925T170000Z
DTEND:20260925T180000Z
X-MICROSOFT-CDO-ALLDAYEVENT:FALSE
SUMMARY:Membership Lunch
DESCRIPTION:Monthly Chamber Membership Lunch\n\nSponsor: Nex-Tech Wireless\n\nSpeaker: ITC Great Plains Director of Business Affairs Patrick Woods\n\nProgram: Power Transmission & Economic Impact\n\nLearn about ITC and how their efforts help power life\, including:\n\n	ITC Great Plains history\n	Role of transmission for customers in the Southwest Power Pool territory \n	Community engagement & investment\n	Customer savings\n	Job creation\n	Local spending\n	Tax revenues\n	Current capital projects
X-ALT-DESC;FMTTYPE=text/html:<span style="background-image: initial\; background-position: initial\; background-size: initial\; background-repeat: initial\; background-attachment: initial\; background-origin: initial\; background-clip: initial\;"><span style="font-family: arial\, sans-serif\;"><span style="font-size: 10pt\;">Monthly Chamber Membership Lunch</span></span></span><br />\n<span style="font-family: arial\, sans-serif\;"><span style="font-size: 10pt\;"><span style="background-image: initial\; background-position: initial\; background-size: initial\; background-repeat: initial\; background-attachment: initial\; background-origin: initial\; background-clip: initial\;"><u><strong>Sponsor</strong></u>: Nex-Tech Wireless<br />\n<u><strong>Speaker</strong></u>: ITC Great Plains Director of Business Affairs Patrick Woods</span></span></span><br />\n<span style="font-family: arial\, sans-serif\;"><span style="font-size: 10pt\;"><span style="background-image: initial\; background-position: initial\; background-size: initial\; background-repeat: initial\; background-attachment: initial\; background-origin: initial\; background-clip: initial\;"><span style="background-image: initial\; background-position: initial\; background-size: initial\; background-repeat: initial\; background-attachment: initial\; background-origin: initial\; background-clip: initial\;"><u><strong>Program</strong></u>: Power Transmission &amp\; Economic Impact<br />\nLearn about ITC and how their efforts help power life\, including:</span></span></span></span>\n<ul>\n	<li>ITC Great Plains history</li>\n	<li>Role of transmission for customers in the Southwest Power Pool territory&nbsp\;</li>\n	<li>Community engagement &amp\; investment</li>\n	<li>Customer savings</li>\n	<li>Job creation</li>\n	<li>Local spending</li>\n	<li>Tax revenues</li>\n	<li>Current capital projects</li>\n</ul>\n
LOCATION:Lb. Event Center & Catering 117 E. 11th St Hays\, KS\, 67601
UID:e.1271.12665
SEQUENCE:3
DTSTAMP:20260424T042701Z
URL:https://members.hayschamber.com/events/details/membership-lunch-12665
END:VEVENT

END:VCALENDAR
