BEGIN:VCALENDAR
VERSION:2.0
PRODID:-//ChamberMaster//Event Calendar 2.0//EN
METHOD:PUBLISH
X-PUBLISHED-TTL:P3D
REFRESH-INTERVAL:P3D
CALSCALE:GREGORIAN
BEGIN:VEVENT
DTSTART:20260828T170000Z
DTEND:20260828T180000Z
X-MICROSOFT-CDO-ALLDAYEVENT:FALSE
SUMMARY:Membership Lunch
DESCRIPTION:Monthly Chamber Membership Lunch\n\nSponsor: Heartland Credit Union \n\nSpeakers: United Way of Ellis County Executive Director\, Janelle VanKooten\n\nProgram: United Way of Ellis County Campaign Kickoff\n\nJoin the United Way of Ellis County as they celebrate the kickoff of their 2026 fundraising campaign that supports over a dozen local non-profit agencies that provide valuable services to citizens in northwest Kansas.
X-ALT-DESC;FMTTYPE=text/html:<span style="background-image: initial\; background-position: initial\; background-size: initial\; background-repeat: initial\; background-attachment: initial\; background-origin: initial\; background-clip: initial\;"><span style="font-family: arial\, sans-serif\;"><span style="font-size: 10pt\;">Monthly Chamber Membership Lunch</span></span></span><br />\n<span style="font-family: arial\, sans-serif\;"><span style="font-size: 10pt\;"><span style="background-image: initial\; background-position: initial\; background-size: initial\; background-repeat: initial\; background-attachment: initial\; background-origin: initial\; background-clip: initial\;"><u><strong>Sponsor</strong></u>: Heartland Credit Union&nbsp\;<br />\n<span style="background-image: initial\; background-position: initial\; background-size: initial\; background-repeat: initial\; background-attachment: initial\; background-origin: initial\; background-clip: initial\;"><u><strong>Speakers</strong></u>:&nbsp\;</span></span></span></span>United Way of Ellis County Executive Director\, Janelle VanKooten<br />\n<u><strong>Program</strong></u>: United Way of Ellis County Campaign Kickoff<br />\nJoin the United Way of Ellis County as they celebrate the kickoff of their 2026 fundraising campaign that supports over a dozen local non-profit agencies that provide valuable services to citizens in northwest Kansas.
LOCATION:Hilton Garden Inn 221 W 43rd St. Hays\, KS\, 67601
UID:e.1271.12677
SEQUENCE:3
DTSTAMP:20260424T053217Z
URL:https://members.hayschamber.com/events/details/membership-lunch-12677
END:VEVENT

END:VCALENDAR
