BEGIN:VCALENDAR
VERSION:2.0
PRODID:-//ChamberMaster//Event Calendar 2.0//EN
METHOD:PUBLISH
X-PUBLISHED-TTL:P3D
REFRESH-INTERVAL:P3D
CALSCALE:GREGORIAN
BEGIN:VEVENT
DTSTART:20180223T180000Z
DTEND:20180223T190000Z
X-MICROSOFT-CDO-ALLDAYEVENT:FALSE
SUMMARY:Membership Lunch
DESCRIPTION:Sponsor: Golden Belt Bank\n\nSpeaker: Dr. Jeff Briggs - FHSU
X-ALT-DESC;FMTTYPE=text/html:Sponsor: Golden Belt Bank<br />\nSpeaker: Dr. Jeff Briggs - FHSU
LOCATION:Smoky Hill Country Club 3303 N. Hall
UID:e.1271.8673
SEQUENCE:3
DTSTAMP:20260424T104752Z
URL:https://members.hayschamber.com/events/details/membership-lunch-8673
END:VEVENT

END:VCALENDAR
