BEGIN:VCALENDAR
VERSION:2.0
PRODID:-//ChamberMaster//Event Calendar 2.0//EN
METHOD:PUBLISH
X-PUBLISHED-TTL:P3D
REFRESH-INTERVAL:P3D
CALSCALE:GREGORIAN
BEGIN:VEVENT
DTSTART:20180323T170000Z
DTEND:20180323T180000Z
X-MICROSOFT-CDO-ALLDAYEVENT:FALSE
SUMMARY:Membership Lunch
DESCRIPTION:Membership Lunch\n\nSponsored By:  Midwest Energy\n\nProgram: Jenny Bates - BBBS
X-ALT-DESC;FMTTYPE=text/html:Membership Lunch<br />\nSponsored By:&nbsp\; Midwest Energy<br />\nProgram: Jenny Bates - BBBS
LOCATION:Smoky Hill Country Club 3303 N. Hall
UID:e.1271.8674
SEQUENCE:3
DTSTAMP:20260424T104752Z
URL:https://members.hayschamber.com/events/details/membership-lunch-8674
END:VEVENT

END:VCALENDAR
