BEGIN:VCALENDAR
VERSION:2.0
PRODID:-//ChamberMaster//Event Calendar 2.0//EN
METHOD:PUBLISH
X-PUBLISHED-TTL:P3D
REFRESH-INTERVAL:P3D
CALSCALE:GREGORIAN
BEGIN:VEVENT
DTSTART:20180427T170000Z
DTEND:20180427T180000Z
X-MICROSOFT-CDO-ALLDAYEVENT:FALSE
SUMMARY:Membership Lunch
DESCRIPTION:Membership Lunch\n\nSponsored By: Equity Bank\n\nProgram: Tammy Wellbrock - Hays Area Chamber
X-ALT-DESC;FMTTYPE=text/html:Membership Lunch<br />\nSponsored By: Equity Bank<br />\nProgram: Tammy Wellbrock - Hays Area Chamber
LOCATION:Smoky Hill Country Club 3303 N. Hall
UID:e.1271.8675
SEQUENCE:3
DTSTAMP:20260424T111210Z
URL:https://members.hayschamber.com/events/details/membership-lunch-8675
END:VEVENT

END:VCALENDAR
