BEGIN:VCALENDAR
VERSION:2.0
PRODID:-//ChamberMaster//Event Calendar 2.0//EN
METHOD:PUBLISH
X-PUBLISHED-TTL:P3D
REFRESH-INTERVAL:P3D
CALSCALE:GREGORIAN
BEGIN:VEVENT
DTSTART:20180629T170000Z
DTEND:20180629T180000Z
X-MICROSOFT-CDO-ALLDAYEVENT:FALSE
SUMMARY:Membership Lunch
DESCRIPTION:Membership Lunch\n\nSponsored By:  EnerSys\n\nProgram: Tracy Streeter - KS Water
X-ALT-DESC;FMTTYPE=text/html:Membership Lunch<br />\nSponsored By:&nbsp\; EnerSys<br />\nProgram: Tracy Streeter&nbsp\;- KS Water
LOCATION:Rose Garden Steak Haus 2350 E. 8th
UID:e.1271.8677
SEQUENCE:3
DTSTAMP:20260424T052048Z
URL:https://members.hayschamber.com/events/details/membership-lunch-8677
END:VEVENT

END:VCALENDAR
