BEGIN:VCALENDAR
VERSION:2.0
PRODID:-//ChamberMaster//Event Calendar 2.0//EN
METHOD:PUBLISH
X-PUBLISHED-TTL:P3D
REFRESH-INTERVAL:P3D
CALSCALE:GREGORIAN
BEGIN:VEVENT
DTSTART:20180727T170000Z
DTEND:20180727T180000Z
X-MICROSOFT-CDO-ALLDAYEVENT:FALSE
SUMMARY:Membership Lunch
DESCRIPTION:Membership Lunch\n\nSponsored by:  Sunflower Bank\n\nProgram: Josh Roe - KS Ag
X-ALT-DESC;FMTTYPE=text/html:Membership Lunch<br />\nSponsored by:&nbsp\; Sunflower Bank<br />\nProgram: Josh Roe - KS Ag
LOCATION:Rose Garden Steak Haus 2350 E. 8th
UID:e.1271.8678
SEQUENCE:3
DTSTAMP:20260423T221923Z
URL:https://members.hayschamber.com/events/details/membership-lunch-8678
END:VEVENT

END:VCALENDAR
