BEGIN:VCALENDAR
VERSION:2.0
PRODID:-//ChamberMaster//Event Calendar 2.0//EN
METHOD:PUBLISH
X-PUBLISHED-TTL:P3D
REFRESH-INTERVAL:P3D
CALSCALE:GREGORIAN
BEGIN:VEVENT
DTSTART:20180824T170000Z
DTEND:20180824T180000Z
X-MICROSOFT-CDO-ALLDAYEVENT:FALSE
SUMMARY:Membership Lunch
DESCRIPTION:Membership Lunch\n\nSponsored By: Eagle Communications\n\nProgram:  United Way
X-ALT-DESC;FMTTYPE=text/html:Membership Lunch<br />\nSponsored By: Eagle Communications<br />\nProgram:&nbsp\; United Way
LOCATION:Rose Garden Steak Haus 2350 E. 8th
UID:e.1271.8679
SEQUENCE:3
DTSTAMP:20260423T182859Z
URL:https://members.hayschamber.com/events/details/membership-lunch-8679
END:VEVENT

END:VCALENDAR
