BEGIN:VCALENDAR
VERSION:2.0
PRODID:-//ChamberMaster//Event Calendar 2.0//EN
METHOD:PUBLISH
X-PUBLISHED-TTL:P3D
REFRESH-INTERVAL:P3D
CALSCALE:GREGORIAN
BEGIN:VEVENT
DTSTART:20181026T170000Z
DTEND:20181026T180000Z
X-MICROSOFT-CDO-ALLDAYEVENT:FALSE
SUMMARY:Membership Lunch
DESCRIPTION:Membership Lunch\n\nSponsored By: Nex-Tech\n\nProgram: Diana Kotecki\, Manager of Community Engagement with ArkStar\, the consulting company for Hays Regional Airport
X-ALT-DESC;FMTTYPE=text/html:Membership Lunch<br />\nSponsored By: Nex-Tech<br />\nProgram: <span style="font-family:calibri\,sans-serif\;"><span style="font-size:11.0pt\;">Diana Kotecki\, Manager of Community Engagement with ArkStar\, the consulting company for Hays Regional Airport</span></span>
LOCATION:Smoky Hill Country Club 3303 N. Hall
UID:e.1271.8681
SEQUENCE:3
DTSTAMP:20260423T141716Z
URL:https://members.hayschamber.com/events/details/membership-lunch-8681
END:VEVENT

END:VCALENDAR
