BEGIN:VCALENDAR
VERSION:2.0
PRODID:-//ChamberMaster//Event Calendar 2.0//EN
METHOD:PUBLISH
X-PUBLISHED-TTL:P3D
REFRESH-INTERVAL:P3D
CALSCALE:GREGORIAN
BEGIN:VEVENT
DTSTART:20180927T170000Z
DTEND:20180927T180000Z
X-MICROSOFT-CDO-ALLDAYEVENT:FALSE
SUMMARY:Membership Lunch
DESCRIPTION:Membership Lunch\n\nSponsored By: Nex-Tech Wireless\n\nProgram:  Conor Nichol
X-ALT-DESC;FMTTYPE=text/html:Membership Lunch<br />\nSponsored By: Nex-Tech Wireless<br />\nProgram:&nbsp\; Conor Nichol
LOCATION:The Venue at Thirsty's 2704 Vine St. Suite B
UID:e.1271.9842
SEQUENCE:3
DTSTAMP:20260423T171010Z
URL:https://members.hayschamber.com/events/details/membership-lunch-9842
END:VEVENT

END:VCALENDAR
