BEGIN:VCALENDAR
VERSION:2.0
PRODID:-//ChamberMaster//Event Calendar 2.0//EN
METHOD:PUBLISH
X-PUBLISHED-TTL:P3D
REFRESH-INTERVAL:P3D
CALSCALE:GREGORIAN
BEGIN:VEVENT
DTSTART:20180515T210000Z
DTEND:20180515T220000Z
X-MICROSOFT-CDO-ALLDAYEVENT:FALSE
SUMMARY:Newsletter Inserts and Member News Due
DESCRIPTION:Please submit anything intended for the June newsletter by this date to the Hays Area Chamber of Commerce.
X-ALT-DESC;FMTTYPE=text/html:Please submit anything intended for the June newsletter by this date to the Hays Area Chamber of Commerce.
LOCATION:
UID:e.1271.8782
SEQUENCE:3
DTSTAMP:20260424T061236Z
URL:https://members.hayschamber.com/events/details/newsletter-inserts-and-member-news-due-05-15-2018-8782
END:VEVENT

END:VCALENDAR
