BEGIN:VCALENDAR
VERSION:2.0
PRODID:-//ChamberMaster//Event Calendar 2.0//EN
METHOD:PUBLISH
X-PUBLISHED-TTL:P3D
REFRESH-INTERVAL:P3D
CALSCALE:GREGORIAN
BEGIN:VEVENT
DTSTART:20180315T220000Z
DTEND:20180315T230000Z
X-MICROSOFT-CDO-ALLDAYEVENT:FALSE
SUMMARY:Newsletter Inserts Due
DESCRIPTION:Please submit anything intended for the April newsletter by this date to the Hays Area Chamber of Commerce.
X-ALT-DESC;FMTTYPE=text/html:Please submit anything intended for the April newsletter by this date to the Hays Area Chamber of Commerce.
LOCATION:
UID:e.1271.8780
SEQUENCE:3
DTSTAMP:20260424T081216Z
URL:https://members.hayschamber.com/events/details/newsletter-inserts-due-03-15-2018-8780
END:VEVENT

END:VCALENDAR
