BEGIN:VCALENDAR
VERSION:2.0
PRODID:-//ChamberMaster//Event Calendar 2.0//EN
METHOD:PUBLISH
X-PUBLISHED-TTL:P3D
REFRESH-INTERVAL:P3D
CALSCALE:GREGORIAN
BEGIN:VEVENT
DTSTART:20180914T220000Z
DTEND:20180914T230000Z
X-MICROSOFT-CDO-ALLDAYEVENT:FALSE
SUMMARY:newsletter inserts due
DESCRIPTION:Please submit anything intended for the October newsletter by this date to the Hays Area Chamber of Commerce.
X-ALT-DESC;FMTTYPE=text/html:Please submit anything intended for the October newsletter by this date to the Hays Area Chamber of Commerce.
LOCATION:
UID:e.1271.8786
SEQUENCE:3
DTSTAMP:20260423T184118Z
URL:https://members.hayschamber.com/events/details/newsletter-inserts-due-8786
END:VEVENT

END:VCALENDAR
