BEGIN:VCALENDAR
VERSION:2.0
PRODID:-//ChamberMaster//Event Calendar 2.0//EN
METHOD:PUBLISH
X-PUBLISHED-TTL:P3D
REFRESH-INTERVAL:P3D
CALSCALE:GREGORIAN
BEGIN:VEVENT
DTSTART:20190315T170000Z
DTEND:20190315T180000Z
X-MICROSOFT-CDO-ALLDAYEVENT:FALSE
SUMMARY:No Ambassador Lunch
DESCRIPTION:Ambassador Monthly Meeting - Stepping Out takes place of this event for March.
X-ALT-DESC;FMTTYPE=text/html:Ambassador Monthly Meeting - Stepping Out takes place of this event for March.
LOCATION:
UID:e.1271.9932
SEQUENCE:3
DTSTAMP:20260422T182646Z
URL:https://members.hayschamber.com/events/details/no-ambassador-lunch-03-15-2019-9932
END:VEVENT

END:VCALENDAR
