BEGIN:VCALENDAR
VERSION:2.0
PRODID:-//ChamberMaster//Event Calendar 2.0//EN
METHOD:PUBLISH
X-PUBLISHED-TTL:P3D
REFRESH-INTERVAL:P3D
CALSCALE:GREGORIAN
BEGIN:VEVENT
DTSTART:20180914T140000Z
DTEND:20180914T150000Z
X-MICROSOFT-CDO-ALLDAYEVENT:FALSE
SUMMARY:No Chamber Chat
DESCRIPTION:No Chamber Chat today\, but please join the Hays Area Chamber staff at the FHSU Presidential Inauguration of President Tisa Mason. For details and times\, visit the FHSU website - www.fhsu.edu
X-ALT-DESC;FMTTYPE=text/html:No Chamber Chat today\, but please join the Hays Area Chamber staff at the FHSU Presidential Inauguration of President Tisa Mason. For details and times\, visit the FHSU website - www.fhsu.edu<br />\n&nbsp\;
LOCATION:
UID:e.1271.9801
SEQUENCE:3
DTSTAMP:20260423T155445Z
URL:https://members.hayschamber.com/events/details/no-chamber-chat-09-14-2018-9801
END:VEVENT

END:VCALENDAR
