BEGIN:VCALENDAR
VERSION:2.0
PRODID:-//ChamberMaster//Event Calendar 2.0//EN
METHOD:PUBLISH
X-PUBLISHED-TTL:P3D
REFRESH-INTERVAL:P3D
CALSCALE:GREGORIAN
BEGIN:VEVENT
DTSTART:20181123T150000Z
DTEND:20181123T160000Z
X-MICROSOFT-CDO-ALLDAYEVENT:FALSE
SUMMARY:No Chamber Chat
DESCRIPTION:
X-ALT-DESC;FMTTYPE=text/html:
LOCATION:
UID:e.1271.9816
SEQUENCE:3
DTSTAMP:20260423T104327Z
URL:https://members.hayschamber.com/events/details/no-chamber-chat-9816
END:VEVENT

END:VCALENDAR
