BEGIN:VCALENDAR
VERSION:2.0
PRODID:-//ChamberMaster//Event Calendar 2.0//EN
METHOD:PUBLISH
X-PUBLISHED-TTL:P3D
REFRESH-INTERVAL:P3D
CALSCALE:GREGORIAN
BEGIN:VEVENT
DTSTART;VALUE=DATE:20190503
DTEND;VALUE=DATE:20190504
TRANSP:TRANSPARENT
X-MICROSOFT-CDO-ALLDAYEVENT:TRUE
SUMMARY:No Chamber Chat
DESCRIPTION:
X-ALT-DESC;FMTTYPE=text/html:
LOCATION:Come enjoy our annual Golf Tournament\, presented by Eagle Communications on the beautiful Smoky Hill Country Club course!
UID:e.1271.9839
SEQUENCE:3
DTSTAMP:20260422T072702Z
URL:https://members.hayschamber.com/events/details/no-chamber-chat-9839
END:VEVENT

END:VCALENDAR
