BEGIN:VCALENDAR
VERSION:2.0
PRODID:-//ChamberMaster//Event Calendar 2.0//EN
METHOD:PUBLISH
X-PUBLISHED-TTL:P3D
REFRESH-INTERVAL:P3D
CALSCALE:GREGORIAN
BEGIN:VEVENT
DTSTART:20190419T140000Z
DTEND:20190419T150000Z
X-MICROSOFT-CDO-ALLDAYEVENT:FALSE
SUMMARY:No Chamber Chat - Good Friday
DESCRIPTION:We will not be having a Chamber Chat today\, as the Chamber office is closed for Good Friday.
X-ALT-DESC;FMTTYPE=text/html:We will not be having a Chamber Chat today\, as the Chamber office is closed for Good Friday.
LOCATION:No Chamber Chat - Good Friday
UID:e.1271.9976
SEQUENCE:3
DTSTAMP:20260422T202947Z
URL:https://members.hayschamber.com/events/details/no-chamber-chat-good-friday-9976
END:VEVENT

END:VCALENDAR
