BEGIN:VCALENDAR
VERSION:2.0
PRODID:-//ChamberMaster//Event Calendar 2.0//EN
METHOD:PUBLISH
X-PUBLISHED-TTL:P3D
REFRESH-INTERVAL:P3D
CALSCALE:GREGORIAN
BEGIN:VEVENT
DTSTART:20190531T140000Z
DTEND:20190531T150000Z
X-MICROSOFT-CDO-ALLDAYEVENT:FALSE
SUMMARY:No Chamber Chat - Holiday Week
DESCRIPTION:There will be no Chamber Chat for Friday\, May 31st. Hopefully you've been enjoying your week!
X-ALT-DESC;FMTTYPE=text/html:There will be no Chamber Chat for Friday\, May 31st. Hopefully you&#39\;ve been enjoying your week!
LOCATION:
UID:e.1271.10238
SEQUENCE:3
DTSTAMP:20260422T073257Z
URL:https://members.hayschamber.com/events/details/no-chamber-chat-holiday-week-10238
END:VEVENT

END:VCALENDAR
