BEGIN:VCALENDAR
VERSION:2.0
PRODID:-//ChamberMaster//Event Calendar 2.0//EN
METHOD:PUBLISH
X-PUBLISHED-TTL:P3D
REFRESH-INTERVAL:P3D
CALSCALE:GREGORIAN
BEGIN:VEVENT
DTSTART:20190830T140000Z
DTEND:20190830T150000Z
X-MICROSOFT-CDO-ALLDAYEVENT:FALSE
SUMMARY:No Chamber Chat - Holiday Weekend
DESCRIPTION:Enjoy your long Labor Day weekend everyone!
X-ALT-DESC;FMTTYPE=text/html:Enjoy your long Labor Day weekend everyone!&nbsp\;&nbsp\;&nbsp\;&nbsp\;
LOCATION:
UID:e.1271.10274
SEQUENCE:3
DTSTAMP:20260422T032003Z
URL:https://members.hayschamber.com/events/details/no-chamber-chat-holiday-weekend-10274
END:VEVENT

END:VCALENDAR
