BEGIN:VCALENDAR
VERSION:2.0
PRODID:-//ChamberMaster//Event Calendar 2.0//EN
METHOD:PUBLISH
X-PUBLISHED-TTL:P3D
REFRESH-INTERVAL:P3D
CALSCALE:GREGORIAN
BEGIN:VEVENT
DTSTART;VALUE=DATE:20180928
DTEND;VALUE=DATE:20180929
TRANSP:TRANSPARENT
X-MICROSOFT-CDO-ALLDAYEVENT:TRUE
SUMMARY:No Chamber Chat - Oktoberfest
DESCRIPTION:
X-ALT-DESC;FMTTYPE=text/html:
LOCATION:No Chamber Chat today\, but be sure and check out the Oktoberfest festiviest down at Frontier Park!
UID:e.1271.9828
SEQUENCE:3
DTSTAMP:20260423T195039Z
URL:https://members.hayschamber.com/events/details/no-chamber-chat-oktoberfest-9828
END:VEVENT

END:VCALENDAR
