BEGIN:VCALENDAR
VERSION:2.0
PRODID:-//ChamberMaster//Event Calendar 2.0//EN
METHOD:PUBLISH
X-PUBLISHED-TTL:P3D
REFRESH-INTERVAL:P3D
CALSCALE:GREGORIAN
BEGIN:VEVENT
DTSTART:20181107T000000Z
DTEND:20181107T010000Z
X-MICROSOFT-CDO-ALLDAYEVENT:FALSE
SUMMARY:Pete Smith Networking Reception
DESCRIPTION:By invite only - contact chamber for details.\n\nAn exclusive chance to mingle with keynote speaker Pete Smith before his community presentation. To learn more about Pete Smith and his inspiring story\, visit www.smithimpact.com.
X-ALT-DESC;FMTTYPE=text/html:By invite only - contact chamber for details.<br />\nAn exclusive chance to mingle with keynote speaker Pete Smith before his community presentation. To learn more about Pete Smith and his inspiring story\, visit www.smithimpact.com.
LOCATION:FHSU Memorial Union Black and Gold Room
UID:e.1271.9863
SEQUENCE:3
DTSTAMP:20260423T183751Z
URL:https://members.hayschamber.com/events/details/pete-smith-networking-reception-9863
END:VEVENT

END:VCALENDAR
