BEGIN:VCALENDAR
VERSION:2.0
PRODID:-//ChamberMaster//Event Calendar 2.0//EN
METHOD:PUBLISH
X-PUBLISHED-TTL:P3D
REFRESH-INTERVAL:P3D
CALSCALE:GREGORIAN
BEGIN:VEVENT
DTSTART:20181107T200000Z
DTEND:20181107T230000Z
X-MICROSOFT-CDO-ALLDAYEVENT:FALSE
SUMMARY:Pete Smith Workshop: Leading Teams that Matter (Afternoon Session)
DESCRIPTION:Built for Legacy: Leading Teams that Matter (Afternoon Session)\n\nAny team can be great once\, but you don't want today's success to be due to luck or happenstance. You want to position your team for a high level of performance\, year after year. To do so effectively requires that you follow a framework designed to attract the best people\, develop a culture of choice and trust\, be attentive to detail\, and intentionally expand your comfort zone. You can't afford to miss this presentation if you are responsible for leading a team or organization to a desired result.
X-ALT-DESC;FMTTYPE=text/html:Built for Legacy: Leading Teams that Matter (Afternoon Session)<br />\nAny team can be great once\, but you don&rsquo\;t want today&rsquo\;s success to be due to luck or happenstance. You want to position your team for a high level of performance\, year after year. To do so effectively requires that you follow a framework designed to attract the best people\, develop a culture of choice and trust\, be attentive to detail\, and intentionally expand your comfort zone. You can&rsquo\;t afford to miss this presentation if you are responsible for leading a team or organization to a desired result.<br />\n&nbsp\;
LOCATION:FHSU Memorial Union
UID:e.1271.9874
SEQUENCE:3
DTSTAMP:20260423T055807Z
URL:https://members.hayschamber.com/events/details/pete-smith-workshop-leading-teams-that-matter-afternoon-session-9874
END:VEVENT

END:VCALENDAR
