BEGIN:VCALENDAR
VERSION:2.0
PRODID:-//ChamberMaster//Event Calendar 2.0//EN
METHOD:PUBLISH
X-PUBLISHED-TTL:P3D
REFRESH-INTERVAL:P3D
CALSCALE:GREGORIAN
BEGIN:VEVENT
DTSTART:20200318T160000Z
DTEND:20200318T180000Z
X-MICROSOFT-CDO-ALLDAYEVENT:FALSE
SUMMARY:POSTPONED: Ambassador Stepping Out
DESCRIPTION:Ambassadors will canvas Ellis County handing out the 2020 Chamber member decals to current member investors!
X-ALT-DESC;FMTTYPE=text/html:Ambassadors will canvas Ellis County handing out the 2020 Chamber member decals to current member investors!
LOCATION:Welcome Center Meeting Room 2700 Vine St. Hays\, KS 67601
UID:e.1271.10359
SEQUENCE:3
DTSTAMP:20260420T095358Z
URL:https://members.hayschamber.com/events/details/postponed-ambassador-stepping-out-10359
END:VEVENT

END:VCALENDAR
