BEGIN:VCALENDAR
VERSION:2.0
PRODID:-//ChamberMaster//Event Calendar 2.0//EN
METHOD:PUBLISH
X-PUBLISHED-TTL:P3D
REFRESH-INTERVAL:P3D
CALSCALE:GREGORIAN
BEGIN:VEVENT
DTSTART:20200320T140000Z
DTEND:20200320T150000Z
X-MICROSOFT-CDO-ALLDAYEVENT:FALSE
SUMMARY:POSTPONED: Chamber Chat - Joe Bob Outfitters
DESCRIPTION:Chamber Chat is a great weekly opportunity to learn about the great things our featured businesses have to offer!
X-ALT-DESC;FMTTYPE=text/html:Chamber Chat is a great weekly opportunity to learn about the great things our featured businesses have to offer!
LOCATION:Joe Bob Outfitters 4850 General Hays Rd. Hays\, KS 67601
UID:e.1271.10600
SEQUENCE:3
DTSTAMP:20260422T133159Z
URL:https://members.hayschamber.com/events/details/postponed-chamber-chat-joe-bob-outfitters-10600
END:VEVENT

END:VCALENDAR
