BEGIN:VCALENDAR
VERSION:2.0
PRODID:-//ChamberMaster//Event Calendar 2.0//EN
METHOD:PUBLISH
X-PUBLISHED-TTL:P3D
REFRESH-INTERVAL:P3D
CALSCALE:GREGORIAN
BEGIN:VEVENT
DTSTART:20190118T220000Z
DTEND:20190118T230000Z
X-MICROSOFT-CDO-ALLDAYEVENT:FALSE
SUMMARY:POSTPONED: Ribbon Cutting - Pat's Beef Jerky
DESCRIPTION:POSTPONED due to weather. New date: February 1st\, 2019. Please check our February calendar for updated information.
X-ALT-DESC;FMTTYPE=text/html:POSTPONED due to weather. New date: February 1st\, 2019. Please check our February calendar for updated information.
LOCATION:2514 Vine\, Ste 3
UID:e.1271.9921
SEQUENCE:3
DTSTAMP:20260423T074354Z
URL:https://members.hayschamber.com/events/details/postponed-ribbon-cutting-pat-s-beef-jerky-9921
END:VEVENT

END:VCALENDAR
