BEGIN:VCALENDAR
VERSION:2.0
PRODID:-//ChamberMaster//Event Calendar 2.0//EN
METHOD:PUBLISH
X-PUBLISHED-TTL:P3D
REFRESH-INTERVAL:P3D
CALSCALE:GREGORIAN
BEGIN:VEVENT
DTSTART:20181101T160000Z
DTEND:20181101T180000Z
X-MICROSOFT-CDO-ALLDAYEVENT:FALSE
SUMMARY:Professional Headshot Drive
DESCRIPTION:The Hays Area Young Professionals group offers a wide variety of programming through the chamber such as the "Professional Headshot Drive" that is happening this Thursday\, November 1st at optional locations. HAYP members are invited to stop by one of the participating locations to take a professional headshot free of charge. The photographers at each business will have a sign-in sheet to collect relevant details at which point\, they will send edited photos afterward.
X-ALT-DESC;FMTTYPE=text/html:&nbsp\;&nbsp\;&nbsp\;&nbsp\;<span style="color:#02222B\;"><span style="font-family:arial\,sans-serif\;"><span style="font-size:12.0pt\;">The Hays Area Young Professionals group offers a wide variety of programming through the chamber such as the &quot\;Professional Headshot Drive&quot\; that is happening this Thursday\, November 1st at optional locations.&nbsp\;HAYP members are invited to stop by one of the participating locations to take a professional headshot free of charge. The photographers at each business will have a sign-in sheet to collect relevant details at which point\, they will send edited photos afterward.&nbsp\;</span></span></span>
LOCATION:Eagle Communications 1007 W. 27th St. (Ask for Christina or Noelle) Hays Daily News 507 Main St. (Enter the south door by the parking lot\, take a left and the studio is the first door on their right side\, ask for Jolie) Nex-Tech 2418 Vine (Ask for Raleen at the main office or find the studio directly behind Centennial Lanes where you will see a red business sign)
UID:e.1271.9899
SEQUENCE:3
DTSTAMP:20260423T074224Z
URL:https://members.hayschamber.com/events/details/professional-headshot-drive-9899
END:VEVENT

END:VCALENDAR
