BEGIN:VCALENDAR
VERSION:2.0
PRODID:-//ChamberMaster//Event Calendar 2.0//EN
METHOD:PUBLISH
X-PUBLISHED-TTL:P3D
REFRESH-INTERVAL:P3D
CALSCALE:GREGORIAN
BEGIN:VEVENT
DTSTART:20200312T213000Z
DTEND:20200312T230000Z
X-MICROSOFT-CDO-ALLDAYEVENT:FALSE
SUMMARY:Q1 Business Showcase
DESCRIPTION:Q1 Business Showcase
X-ALT-DESC;FMTTYPE=text/html:Q1 Business Showcase
LOCATION:The Press (230 E. 8th Street)
UID:e.1271.10574
SEQUENCE:3
DTSTAMP:20260422T082436Z
URL:https://members.hayschamber.com/events/details/q1-business-showcase-10574
END:VEVENT

END:VCALENDAR
