BEGIN:VCALENDAR
VERSION:2.0
PRODID:-//ChamberMaster//Event Calendar 2.0//EN
METHOD:PUBLISH
X-PUBLISHED-TTL:P3D
REFRESH-INTERVAL:P3D
CALSCALE:GREGORIAN
BEGIN:VEVENT
DTSTART:20200611T213000Z
DTEND:20200611T230000Z
X-MICROSOFT-CDO-ALLDAYEVENT:FALSE
SUMMARY:Q2 Business Showcase
DESCRIPTION:Q2 Business Showcase
X-ALT-DESC;FMTTYPE=text/html:Q2 Business Showcase
LOCATION:The Press (230 E. 8th Street)
UID:e.1271.10638
SEQUENCE:3
DTSTAMP:20260419T191358Z
URL:https://members.hayschamber.com/events/details/q2-business-showcase-10638
END:VEVENT

END:VCALENDAR
