BEGIN:VCALENDAR
VERSION:2.0
PRODID:-//ChamberMaster//Event Calendar 2.0//EN
METHOD:PUBLISH
X-PUBLISHED-TTL:P3D
REFRESH-INTERVAL:P3D
CALSCALE:GREGORIAN
BEGIN:VEVENT
DTSTART:20190910T213000Z
DTEND:20190910T230000Z
X-MICROSOFT-CDO-ALLDAYEVENT:FALSE
SUMMARY:Q3 Business Showcase
DESCRIPTION:Join the Hays Area Chamber of Commerce in learning about several of our local businesses and their offerings at our summer Business Showcase. Enjoy food and refreshments as you meet with local vendors who will share what their businesses can do for you.
X-ALT-DESC;FMTTYPE=text/html:Join the Hays Area Chamber of Commerce in learning about several of our local businesses and their offerings at our summer Business Showcase. Enjoy food and refreshments as you meet with local vendors who will share what their businesses can do for you.
LOCATION:Hays Public Library - Gallery Room 1205 Main St.
UID:e.1271.10290
SEQUENCE:3
DTSTAMP:20260422T020606Z
URL:https://members.hayschamber.com/events/details/q3-business-showcase-10290
END:VEVENT

END:VCALENDAR
