BEGIN:VCALENDAR
VERSION:2.0
PRODID:-//ChamberMaster//Event Calendar 2.0//EN
METHOD:PUBLISH
X-PUBLISHED-TTL:P3D
REFRESH-INTERVAL:P3D
CALSCALE:GREGORIAN
BEGIN:VEVENT
DTSTART:20191112T223000Z
DTEND:20191113T000000Z
X-MICROSOFT-CDO-ALLDAYEVENT:FALSE
SUMMARY:Q4 Business Showcase
DESCRIPTION:Join the Hays Area Chamber of Commerce in learning about several of our local businesses and their offerings at our summer Business Showcase. Enjoy food and refreshments as you meet with local vendors who will share what their businesses can do for you.
X-ALT-DESC;FMTTYPE=text/html:<span style="color: rgb(51\, 51\, 51)\; font-family: sans-serif\, Arial\, Verdana\, &quot\;Trebuchet MS&quot\;\; font-size: 13px\; background-color: rgb(255\, 255\, 255)\;">Join the Hays Area Chamber of Commerce in learning about several of our local businesses and their offerings at our summer Business Showcase. Enjoy food and refreshments as you meet with local vendors who will share what their businesses can do for you.</span>&nbsp\; &nbsp\;
LOCATION:Rose Garden Banquet Hall 2350 E. 8th St.
UID:e.1271.10322
SEQUENCE:3
DTSTAMP:20260421T231843Z
URL:https://members.hayschamber.com/events/details/q4-business-showcase-10322
END:VEVENT

END:VCALENDAR
