BEGIN:VCALENDAR
VERSION:2.0
PRODID:-//ChamberMaster//Event Calendar 2.0//EN
METHOD:PUBLISH
X-PUBLISHED-TTL:P3D
REFRESH-INTERVAL:P3D
CALSCALE:GREGORIAN
BEGIN:VEVENT
DTSTART:20260522T140000Z
DTEND:20260522T150000Z
X-MICROSOFT-CDO-ALLDAYEVENT:FALSE
SUMMARY:Ribbon Cutting/Chamber Chat: Hays Recreation Commission - 65th Anniversary
DESCRIPTION:Please join The Chamber in Hays\, Kansas for a Ribbon Cutting to celebrate the 65th anniversary of Hays Recreation Commission!
X-ALT-DESC;FMTTYPE=text/html:Please join The Chamber in Hays\, Kansas for a Ribbon Cutting to celebrate the 65th anniversary of Hays Recreation Commission!
LOCATION:Hays Recreation Commission 1105 Canterbury Dr.\, Hays
UID:e.1271.12928
SEQUENCE:3
DTSTAMP:20260423T171855Z
URL:https://members.hayschamber.com/events/details/rc-chamber-chat-hays-recreation-commission-12928
END:VEVENT

END:VCALENDAR
