BEGIN:VCALENDAR
VERSION:2.0
PRODID:-//ChamberMaster//Event Calendar 2.0//EN
METHOD:PUBLISH
X-PUBLISHED-TTL:P3D
REFRESH-INTERVAL:P3D
CALSCALE:GREGORIAN
BEGIN:VEVENT
DTSTART:20181009T150000Z
DTEND:20181009T160000Z
X-MICROSOFT-CDO-ALLDAYEVENT:FALSE
SUMMARY:RESCHEDULED - Ribbon Cutting - Wilson Elementary Playground
DESCRIPTION:Due to weather the ribbon cutting scheduled at Wilson Elementary school playground for this morning has been moved to Friday\, 10-12-18 at 11:00am.
X-ALT-DESC;FMTTYPE=text/html:<strong><u>Due to weather the ribbon cutting scheduled at Wilson Elementary school playground for this morning has been moved to Friday\, 10-12-18 at 11:00am.</u></strong><br />\n&nbsp\;
LOCATION:101 East 28th
UID:e.1271.9885
SEQUENCE:3
DTSTAMP:20260423T171854Z
URL:https://members.hayschamber.com/events/details/rescheduled-ribbon-cutting-wilson-elementary-playground-9885
END:VEVENT

END:VCALENDAR
