BEGIN:VCALENDAR
VERSION:2.0
PRODID:-//ChamberMaster//Event Calendar 2.0//EN
METHOD:PUBLISH
X-PUBLISHED-TTL:P3D
REFRESH-INTERVAL:P3D
CALSCALE:GREGORIAN
BEGIN:VEVENT
DTSTART:20180315T210000Z
DTEND:20180315T220000Z
X-MICROSOFT-CDO-ALLDAYEVENT:FALSE
SUMMARY:Ribbon Cutting - A Home For You Realty\, Laura Sadeghi
DESCRIPTION:
X-ALT-DESC;FMTTYPE=text/html:
LOCATION:1406 Main St
UID:e.1271.8776
SEQUENCE:3
DTSTAMP:20260424T081207Z
URL:https://members.hayschamber.com/events/details/ribbon-cutting-a-home-for-you-realty-laura-sadeghi-8776
END:VEVENT

END:VCALENDAR
