BEGIN:VCALENDAR
VERSION:2.0
PRODID:-//ChamberMaster//Event Calendar 2.0//EN
METHOD:PUBLISH
X-PUBLISHED-TTL:P3D
REFRESH-INTERVAL:P3D
CALSCALE:GREGORIAN
BEGIN:VEVENT
DTSTART:20260615T210000Z
DTEND:20260615T220000Z
X-MICROSOFT-CDO-ALLDAYEVENT:FALSE
SUMMARY:Ribbon Cutting - Avid Hotel
DESCRIPTION:Please join The Chamber in Hays\, Kansas for a Ribbon Cutting to celebrate the 5th anniversary of Avid Hotel!
X-ALT-DESC;FMTTYPE=text/html:Please join The Chamber in Hays\, Kansas for a Ribbon Cutting to celebrate the 5th anniversary of Avid Hotel!
LOCATION:Avid Hotel 206 W 43rd St.\, Hays
UID:e.1271.12897
SEQUENCE:3
DTSTAMP:20260423T184347Z
URL:https://members.hayschamber.com/events/details/ribbon-cutting-avid-hotel-12897
END:VEVENT

END:VCALENDAR
