BEGIN:VCALENDAR
VERSION:2.0
PRODID:-//ChamberMaster//Event Calendar 2.0//EN
METHOD:PUBLISH
X-PUBLISHED-TTL:P3D
REFRESH-INTERVAL:P3D
CALSCALE:GREGORIAN
BEGIN:VEVENT
DTSTART:20170407T210000Z
DTEND:20170407T220000Z
X-MICROSOFT-CDO-ALLDAYEVENT:FALSE
SUMMARY:Ribbon Cutting-Bob Schwarz Financial
DESCRIPTION:
X-ALT-DESC;FMTTYPE=text/html:
LOCATION:407 Main St. Victoria\, KS
UID:e.1271.6134
SEQUENCE:3
DTSTAMP:20260425T173606Z
URL:https://members.hayschamber.com/events/details/ribbon-cutting-bob-schwarz-financial-6134
END:VEVENT

END:VCALENDAR
