BEGIN:VCALENDAR
VERSION:2.0
PRODID:-//ChamberMaster//Event Calendar 2.0//EN
METHOD:PUBLISH
X-PUBLISHED-TTL:P3D
REFRESH-INTERVAL:P3D
CALSCALE:GREGORIAN
BEGIN:VEVENT
DTSTART:20190628T210000Z
DTEND:20190628T220000Z
X-MICROSOFT-CDO-ALLDAYEVENT:FALSE
SUMMARY:Ribbon Cutting - Body + Soul Day and Med Spa
DESCRIPTION:
X-ALT-DESC;FMTTYPE=text/html:
LOCATION:107 W 15th St
UID:e.1271.10264
SEQUENCE:3
DTSTAMP:20260422T073624Z
URL:https://members.hayschamber.com/events/details/ribbon-cutting-body-soul-day-and-med-spa-10264
END:VEVENT

END:VCALENDAR
