BEGIN:VCALENDAR
VERSION:2.0
PRODID:-//ChamberMaster//Event Calendar 2.0//EN
METHOD:PUBLISH
X-PUBLISHED-TTL:P3D
REFRESH-INTERVAL:P3D
CALSCALE:GREGORIAN
BEGIN:VEVENT
DTSTART:20190805T150000Z
DTEND:20190805T160000Z
X-MICROSOFT-CDO-ALLDAYEVENT:FALSE
SUMMARY:Ribbon Cutting - Briefspace
DESCRIPTION:Come and celebrate Briefspace's 1 year anniversary with a Ribbon Cutting!
X-ALT-DESC;FMTTYPE=text/html:Come and celebrate Briefspace&#39\;s 1 year anniversary with a Ribbon Cutting!
LOCATION:219 W. 10th St.
UID:e.1271.10289
SEQUENCE:3
DTSTAMP:20260422T044822Z
URL:https://members.hayschamber.com/events/details/ribbon-cutting-briefspace-10289
END:VEVENT

END:VCALENDAR
