BEGIN:VCALENDAR
VERSION:2.0
PRODID:-//ChamberMaster//Event Calendar 2.0//EN
METHOD:PUBLISH
X-PUBLISHED-TTL:P3D
REFRESH-INTERVAL:P3D
CALSCALE:GREGORIAN
BEGIN:VEVENT
DTSTART:20181130T220000Z
DTEND:20181130T230000Z
X-MICROSOFT-CDO-ALLDAYEVENT:FALSE
SUMMARY:Ribbon Cutting - Briney Motor Sports
DESCRIPTION:
X-ALT-DESC;FMTTYPE=text/html:
LOCATION:1000 E Highway 40 Bypass
UID:e.1271.9897
SEQUENCE:3
DTSTAMP:20260423T155556Z
URL:https://members.hayschamber.com/events/details/ribbon-cutting-briney-motor-sports-9897
END:VEVENT

END:VCALENDAR
