BEGIN:VCALENDAR
VERSION:2.0
PRODID:-//ChamberMaster//Event Calendar 2.0//EN
METHOD:PUBLISH
X-PUBLISHED-TTL:P3D
REFRESH-INTERVAL:P3D
CALSCALE:GREGORIAN
BEGIN:VEVENT
DTSTART:20171011T210000Z
DTEND:20171011T220000Z
X-MICROSOFT-CDO-ALLDAYEVENT:FALSE
SUMMARY:Ribbon Cutting - Bronze On Tanning Salon
DESCRIPTION:
X-ALT-DESC;FMTTYPE=text/html:
LOCATION:705 Fort St.
UID:e.1271.7634
SEQUENCE:3
DTSTAMP:20260425T022253Z
URL:https://members.hayschamber.com/events/details/ribbon-cutting-bronze-on-tanning-salon-7634
END:VEVENT

END:VCALENDAR
