BEGIN:VCALENDAR
VERSION:2.0
PRODID:-//ChamberMaster//Event Calendar 2.0//EN
METHOD:PUBLISH
X-PUBLISHED-TTL:P3D
REFRESH-INTERVAL:P3D
CALSCALE:GREGORIAN
BEGIN:VEVENT
DTSTART:20171006T140000Z
DTEND:20171006T150000Z
X-MICROSOFT-CDO-ALLDAYEVENT:FALSE
SUMMARY:Ribbon Cutting-Center for Applied Technology
DESCRIPTION:
X-ALT-DESC;FMTTYPE=text/html:
LOCATION:FHSU Campus (new building near the Memorial Union)
UID:e.1271.6177
SEQUENCE:3
DTSTAMP:20260425T021833Z
URL:https://members.hayschamber.com/events/details/ribbon-cutting-center-for-applied-technology-6177
END:VEVENT

END:VCALENDAR
