BEGIN:VCALENDAR
VERSION:2.0
PRODID:-//ChamberMaster//Event Calendar 2.0//EN
METHOD:PUBLISH
X-PUBLISHED-TTL:P3D
REFRESH-INTERVAL:P3D
CALSCALE:GREGORIAN
BEGIN:VEVENT
DTSTART:20170310T150000Z
DTEND:20170310T160000Z
X-MICROSOFT-CDO-ALLDAYEVENT:FALSE
SUMMARY:Ribbon Cutting/Chamber Chat- Joe Bob Outfitters
DESCRIPTION:
X-ALT-DESC;FMTTYPE=text/html:
LOCATION:4850 General Hays Rd.
UID:e.1271.6130
SEQUENCE:3
DTSTAMP:20260425T191152Z
URL:https://members.hayschamber.com/events/details/ribbon-cutting-chamber-chat-joe-bob-outfitters-6130
END:VEVENT

END:VCALENDAR
