BEGIN:VCALENDAR
VERSION:2.0
PRODID:-//ChamberMaster//Event Calendar 2.0//EN
METHOD:PUBLISH
X-PUBLISHED-TTL:P3D
REFRESH-INTERVAL:P3D
CALSCALE:GREGORIAN
BEGIN:VEVENT
DTSTART:20260619T140000Z
DTEND:20260619T150000Z
X-MICROSOFT-CDO-ALLDAYEVENT:FALSE
SUMMARY:Ribbon Cutting/Chamber Chat - Suck it Up Bubble Cup
DESCRIPTION:Please join The Chamber in Hays\, Kansas for a Chamber Chat to celebrate Suck It Up Bubble Cup with a Ribbon Cutting and to check out their new menu which will include loaded teas!
X-ALT-DESC;FMTTYPE=text/html:Please join The Chamber in Hays\, Kansas for a Chamber Chat to celebrate Suck It Up Bubble Cup with a Ribbon Cutting and to check out their new menu which will include loaded teas!
LOCATION:The Welcome Center 2700 Vine St.\, Hays
UID:e.1271.12951
SEQUENCE:3
DTSTAMP:20260424T014309Z
URL:https://members.hayschamber.com/events/details/ribbon-cutting-chamber-chat-suck-it-up-bubble-cup-12951
END:VEVENT

END:VCALENDAR
